Workbook
Name Slicer_Empresa_propiedad_de_mujeres: #N/A
Name Slicer_Empresa_propiedad_de_mujeres1: #N/A
Name Slicer_Empresa_propiedad_de_mujeres2: #N/A
Name Slicer_Empresa_propiedad_de_mujeres3: #N/A
Name Slicer_Empresa_propiedad_de_mujeres4: #N/A
Name Slicer_Empresa_propiedad_de_mujeres5: #N/A
Name Slicer_Empresa_propiedad_de_mujeres6: #N/A
Name Slicer_Empresa_propiedad_de_mujeres7: #N/A
Name Slicer_Estado_del_préstamo: #N/A
Name Slicer_Estado_del_préstamo1: #N/A
Name Slicer_Estado_del_préstamo2: #N/A
Name Slicer_Estado_del_préstamo3: #N/A
Name Slicer_Estado_del_préstamo4: #N/A
Name Slicer_Industria: #N/A
Name Slicer_Rango_de_tamaño__empleados: #N/A
Name Slicer_Rango_de_tamaño__ingresos: #N/A
Name Slicer_Región: #N/A
Name Slicer_Vida_útil_de_la_entidad: #N/A

Sheet Instrucciones
A2: Herramienta de segmentación de MIPYME - Kit de herramientas Paso 5: Herramienta de análisis de cartera
A3: Nombre de la institución financiera
A4: Inserte el nombre de su organización en la celda A2
B6: Bienvenido a la Herramienta de Análisis de Cartera, parte del Kit de Herramientas para la Segmentación de MIPYME. Esta herramienta está diseñada para que los intermediarios financieros analicen los datos de clientes y préstamos de las PYME, con especial atención a las PYME propiedad de mujeres y lideradas por mujeres (MIPYME). Complementa las herramientas anteriores, pasando de las evaluaciones de mercado y ecosistema a la perspectiva de cartera, lo que permite a las instituciones: - Identificar patrones y brechas en la atención a las MIPYMEs en comparación con otras PYME; - Comprender las características de los clientes y las diferencias de rendimiento utilizando datos desagregados por género; - Apoyar la toma de decisiones basada en datos para el diseño de productos, la difusión y la gestión de riesgos. Para obtener orientación detallada sobre la segmentación y cómo esta herramienta se integra en el marco general, consulte el Kit de Herramientas para la Segmentación de PYME completo en:
B7: Kit de herramientas para la segmentación de las MIPYMEs (enlace)
B9: ENTRADA DE DATOS
B10: Vaya a la hoja "Ingrese datos aquí"
B11: Comience por la columna A e inserte los datos de cada cliente por separado. Si inserta datos de varios clientes simultáneamente, asegúrese de que los valores de cada fila subsiguiente estén ordenados del mismo modo y se refieran al cliente de la celda A de la fila.
B12: La fila 2 incluye información sobre el tipo de datos que deben insertarse en la columna siguiente a partir de la fila 4 de la columna.
B13: Algunas filas (p. ej., D y E) contienen validación de datos para garantizar que las entradas tengan un formato que la herramienta de análisis pueda procesar. Si copia valores para toda la fila, asegúrese de que las entradas tengan el mismo formato que las opciones posibles. Para ver las listas de opciones posibles, vaya a la hoja "Configuración".
B14: Algunas filas (p. ej., H) contienen Validación de Datos basada en categorizaciones comunes (clasificaciones de número de empleados, tramos de ingresos, etc.). Si su organización utiliza umbrales diferentes a los que aparecen en la hoja "Configuración", modifique los valores actuales con los aplicables a su organización y jurisdicción antes de completar los datos.
B15: Algunas celdas de la Fila 2 contienen el mensaje "Fórmula: no modificar. Sobrescribir solo si los datos ya están disponibles". Para mayor claridad, estas columnas contienen fórmulas derivadas de los datos de las otras columnas. Si su organización ya ha calculado esta métrica, puede insertar los datos de sus cálculos. De lo contrario, asegúrese de arrastrar la fórmula hasta la última fila completada para garantizar que se procesen todos los datos.
B16: A partir de la columna T, se listan varios servicios bancarios de uso común en cada una de las columnas. Si su organización registra estos servicios con un nombre diferente, puede cambiar el nombre del servicio en la fila 3. Si su organización registra más tipos de servicios de los ya listados, muestre las columnas entre AA y BR para ver columnas adicionales donde se puede listar cada uno de estos servicios. Si el cliente utiliza el servicio, ingrese 1. Si no lo utiliza, ingrese 0 o deje el campo en blanco.
B17: ANÁLISIS
B18: Una vez finalizada la entrada de datos, pase a la hoja “Análisis de cartera”.
... B22: Puede usar los enlaces en la parte superior de la hoja para acceder directamente a las distintas secciones. Los enlaces de la fila 5 le llevan a temas generales, mientras que los de abajo le llevan directamente a gráficos individuales.
B24: Contenido | C24: Enlace | D24: Comentarios sobre su función
B25: Introducir datos aquí | C25: Ir al inicio de la hoja | D25: Esta sección le permite recopilar los datos de su cartera en una única plantilla estructurada.
B26: Análisis de cartera | C26: Ir al inicio de la hoja | D26: Con base en los datos insertados en la hoja anterior, esta hoja le proporciona una variedad de desgloses por varios parámetros de negocio que le permiten comparar diferentes segmentos dentro de su cartera y cómo se desempeñan.
B27: Configuración | C27: Ir al inicio de la hoja | D27: Esta hoja contiene listas para la validación de datos en la primera hoja. Permite cambiar las categorías por las que se dividen las empresas.

Sheet Introducir datos aquí
A2: Asegúrese de que todas las entradas de los clientes tengan un identificador único | B2: Complete si realiza un seguimiento de datos por región, ciudad u otros marcadores geográficos, déjelo vacío si no es así | C2: Insertar % de participación de accionistas mujeres. | D2: "Sí" si hay al menos una mujer en un puesto ejecutivo como CEO/COO/Presidente/Vicepresidente, "No" en caso contrario. | E2: "Sí" si la estructura de la empresa incluye un consejo directivo, "No" si no lo incluye. | F2: Si la empresa cuenta con junta directiva, indique el porcentaje de mujeres entre sus miembros. Si la empresa no cuenta con junta directiva, deje este campo en blanco. | G2: Fórmula: no modificar. Sobrescribir solo si los datos ya están disponibles. | H2: Introduzca el tamaño de la empresa según sus ingresos anuales. Si no dispone de datos, indique n/d. Si se utilizan umbrales de ingresos diferentes, modifique la columna C de la "Hoja de Validación de Datos" para reflejar las categorías utilizadas. | I2: Introduzca el tamaño de la empresa según sus ingresos anuales. Si no dispone de datos, indique n/d. Si se utilizan umbrales de ingresos diferentes, modifique la columna C de la "Hoja de Validación de Datos" para reflejar las categorías utilizadas. | J2: Insertar fecha de fundación de la empresa. | K2: Fórmula: no modificar. Sobrescribir solo si los datos ya están disponibles. | L2: Fórmula: no modificar. Sobrescribir solo si los datos ya están disponibles. | M2: Insertar fecha en la que la empresa pasó a ser cliente del banco. | N2: Fórmula: no modificar. Sobrescribir solo si los datos ya están disponibles. | O2: Fórmula: no modificar. Sobrescribir solo si los datos ya están disponibles. | P2: Ingrese la fecha de nacimiento del representante de la empresa (propietario mayoritario o representante). | Q2: Fórmula: no modificar. Sobrescribir solo si los datos ya están disponibles. | R2: Fórmula: no modificar. Sobrescribir solo si los datos ya están disponibles. | S2: Insertar la industria en la que opera la cliente. | T2: 1 si el cliente utiliza este servicio 0 si el cliente no utiliza este servicio. | U2: 1 si el cliente utiliza este servicio 0 si el cliente no utiliza este servicio. | V2: 1 si el cliente utiliza este servicio 0 si el cliente no utiliza este servicio. | W2: 1 si el cliente utiliza este servicio 0 si el cliente no utiliza este servicio. | X2: 1 si el cliente utiliza este servicio 0 si el cliente no utiliza este servicio. | Y2: 1 si el cliente utiliza este servicio 0 si el cliente no utiliza este servicio. | Z2: 1 si el cliente utiliza este servicio 0 si el cliente no utiliza este servicio. | AA2: Si hay servicios adicionales ofrecidos a los clientes que no están enumerados en las columnas anteriores, muestre las columnas ocultas y use tantas como sea necesario para enumerar todos los servicios. | BR2: Fórmula: no modificar. Sobrescribir solo si los datos ya están disponibles. | BS2: Fórmula: no modificar. Sobrescribir solo si los datos ya están disponibles. | BT2: Ingrese datos si el cliente es considerado activo o inactivo por el banco. | BU2: Ingrese la clasificación del tamaño de la empresa de acuerdo a la política local de MSME. | BV2: Si varios clientes son gestionados por diferentes sectores del banco, indique el sector responsable de gestionar al cliente. | BW2: "Sí" si las cuentas de los clientes han estado bloqueadas por más de 12 meses, "No" en caso contrario. | BX2: Exposición total de préstamos en moneda local. Si el cliente tiene préstamos en moneda extranjera, calcule por separado los valores en moneda local según los tipos de cambio aplicables antes de ingresarlos. | BY2: Fórmula: no modificar. Sobrescribir solo si los datos ya están disponibles. | BZ2: Ingrese el saldo de las cuentas corrientes del cliente en moneda local. Si el cliente tiene cuentas en moneda extranjera, calcule por separado los valores en moneda local según los tipos de cambio aplicables antes de ingresarlos. | CA2: Ingrese el saldo de las cuentas corrientes del cliente en moneda local. Si el cliente tiene cuentas en moneda extranjera, calcule por separado los valores en moneda local según los tipos de cambio aplicables antes de ingresarlos. | CB2: Fórmula: no modificar. Sobrescribir solo si los datos ya están disponibles. | CC2: Ingrese el tipo de préstamo que usa la cliente. | CD2: Si alguno de los préstamos del cliente está garantizado, ingrese el tipo de garantía utilizada | CE2: Introduzca el número de contratos de préstamo individuales con el cliente | CF2: Fórmula: no modificar. Sobrescribir solo si los datos ya están disponibles. | CG2: Fórmula: no modificar. Sobrescribir solo si los datos ya están disponibles. | CH2: Fórmula: no modificar. Sobrescribir solo si los datos ya están disponibles. | CI2: Para cada cliente de préstamo, ingrese el estado de desempeño (PAR 30, PAR 90, etc. en caso de incumplimiento), En cumplimiento para aquellos que liquidan regularmente sus obligaciones y n/a para aquellos que no tienen préstamos.
A3: ID de la empresa | B3: Región | C3: Porcentaje de mujeres propietarias | D3: Mujeres en puestos ejecutivos clave | E3: Tiene una junta directiva | F3: % de mujeres en la junta directiva | G3: Empresa propiedad de mujeres | H3: Rango de tamaño (empleados) | I3: Rango de tamaño (ingresos) | J3: Fundación de la entidad | K3: Edad del negocio | L3: Vida útil de la entidad | M3: Cliente desde | N3: Duración de la relación con el cliente | O3: Categoría de la duración de la relación con el cliente | P3: Fecha de nacimiento de la persona clave | Q3: Edad de la persona clave | R3: Grupo de edad de la persona clave | S3: Industria | T3: Préstamo | U3: Banca electrónica | V3: Cuenta de ahorros | W3: Garantía | X3: Servicios comerciales | Y3: Corretaje | Z3: Servicios de seguros | AA3: Otros servicios | AB3: Other service | AC3: Other service | AD3: Other service | AE3: Other service | AF3: Other service | AG3: Other service | AH3: Other service | AI3: Other service | AJ3: Other service | AK3: Other service | AL3: Other service | AM3: Other service | AN3: Other service | AO3: Other service | AP3: Other service | AQ3: Other service | AR3: Other service | AS3: Other service | AT3: Other service | AU3: Other service | AV3: Other service | AW3: Other service | AX3: Other service | AY3: Other service | AZ3: Other service | BA3: Other service | BB3: Other service | BC3: Other service | BD3: Other service | BE3: Other service | BF3: Other service | BG3: Other service | BH3: Other service | BI3: Other service | BJ3: Other service | BK3: Other service | BL3: Other service | BM3: Other service | BN3: Other service | BO3: Other service | BP3: Other service | BQ3: Other service | BR3: Número de servicios utilizados | BS3: Estado del préstamo | BT3: Cliente activo | BU3: Segmento | BV3: Cartera | BW3: Bloqueado durante más de 12 meses | BX3: Exposición a préstamos | BY3: Rango de exposición | BZ3: Cuenta corriente | CA3: Otros depósitos | CB3: Total de depósitos | CC3: Tipo de préstamo | CD3: Garantía del préstamo | CE3: N.º de préstamos | CF3: Valor medio por préstamo vigente | CG3: Exposición crediticia como % de los depósitos | CH3: Préstamos como % de los depósitos (categorías) | CI3: Estado de morosidad
A4: 11111 | B4: Región 1 | C4: 0.2 | D4: Si | E4: No | G4: =IF(OR(C4>=51%, AND(C4>=20%, D4="Si", E4="No"), AND(C4>=20%, D4="Si", E4="Si", F4>=30%)), "Si", "No") -> Si | H4: n/a | I4: n/a | J4: 45658 | K4: =IF(J4=0,"",ROUNDDOWN(((TODAY()-J4)/365),0)) -> 1 | L4: =IF(ISBLANK(J4),"",IF(DATEDIF(J4,TODAY(),"Y")<1,"<12 meses", IF(DATEDIF(J4,TODAY(),"Y")<3,"1-3 años",IF(DATEDIF(J4,TODAY(),"Y")<5,"3-5 años",IF(DATEDIF(J4,TODAY(),"Y")<10,"5-10 años",IF(DATEDIF(J4,TODAY(),"Y")<20,"10-20 años",">20 años")))))) -> 1-3 años | M4: 45658 | N4: =IF(M4=0,"",ROUNDDOWN(((TODAY()-M4)/365),0)) -> 1 | O4: =IF(ISBLANK(M4),"",IF(DATEDIF(M4,TODAY(),"Y")<1,"<12 12 meses", IF(DATEDIF(M4,TODAY(),"Y")<3,"1-3 años",IF(DATEDIF(M4,TODAY(),"Y")<5,"3-5 años",IF(DATEDIF(M4,TODAY(),"Y")<10,"5-10 años",IF(DATEDIF(M4,TODAY(),"Y")<20,"10-20 años",">20 años")))))) -> 1-3 años | P4: 36526 | Q4: =IF(P4=0,"",ROUNDDOWN(((TODAY()-P4)/365),0)) -> 26 | R4: =IF(Q4="","",IF(Q4<18,"<18",IF(Q4<=24,"18-24",IF(Q4<=34,"25-34",IF(Q4<=44,"35-44",IF(Q4<=54,"45-54",IF(Q4<=64,"55-64","64+"))))))) -> 25-34 | S4: Comercio al por mayor y al por menor; reparación de vehículos de motor y motocicletas | U4: 1 | V4: 1 | W4: 1 | X4: 1 | BR4: =SUM(T4:BQ4) -> 4 | BS4: =IF(T4=1,"Préstamo","Sin préstamo") -> Sin préstamo | BT4: Activo | BU4: Pequeño | BV4: Asesor de clientes empresariales | BW4: No | BX4: =IF(T4=1,RANDBETWEEN(0,5000000),"") | BY4: =IF(OR(BX4="",ISBLANK(BX4)),"",IF(BX4>5000000,">5 mil", IF(BX4<=50000,"<=50k", IF(AND(BX4>50000,BX4<=100000),"50k-100k", IF(AND(BX4>100000,BX4<=250000),"100k-250k", IF(AND(BX4>250000,BX4<=750000),"250k-750k", IF(AND(BX4>750000,BX4<=5000000),"750k-5 mil","Desconocido"))))))) | BZ4: =RANDBETWEEN(0,2000000) -> 863938 | CB4: =BZ4+CA4 -> 863938 | CE4: =IF(T4=1,RANDBETWEEN(1,10),"") | CF4: =IF(OR(BX4="", ISBLANK(BX4)), "", BX4/CE4) | CG4: =IF(OR(ISBLANK(BX4), BX4=""), "", IF(OR(ISBLANK(CB4), CB4=0), "no deposits", BX4/CB4)) | CH4: =IF(CG4="","",IF(ISERROR(CG4),"no deposits",IF(CG4<100%,"1x",IF(CG4<500%,"1-5x",IF(CG4<1000%,"5-10x",IF(CG4<2000%,"10-20x",IF(CG4<5000%,"20-50x",IF(CG4<10000%,"50-100x",IF(CG4<50000%,"100-500x",">500x"))))))))) | CI4: n/a
A5: 11112 | B5: Región 1 | C5: 1 | D5: No | E5: No | G5: =IF(OR(C5>=51%, AND(C5>=20%, D5="Si", E5="No"), AND(C5>=20%, D5="Si", E5="Si", F5>=30%)), "Si", "No") -> Si | H5: <=50 | I5: >2 mil EUR | J5: 45473 | K5: =IF(J5=0,"",ROUNDDOWN(((TODAY()-J5)/365),0)) -> 2 | L5: =IF(ISBLANK(J5),"",IF(DATEDIF(J5,TODAY(),"Y")<1,"<12 meses", IF(DATEDIF(J5,TODAY(),"Y")<3,"1-3 años",IF(DATEDIF(J5,TODAY(),"Y")<5,"3-5 años",IF(DATEDIF(J5,TODAY(),"Y")<10,"5-10 años",IF(DATEDIF(J5,TODAY(),"Y")<20,"10-20 años",">20 años")))))) -> 1-3 años | M5: 45473 | N5: =IF(M5=0,"",ROUNDDOWN(((TODAY()-M5)/365),0)) -> 2 | O5: =IF(ISBLANK(M5),"",IF(DATEDIF(M5,TODAY(),"Y")<1,"<12 12 meses", IF(DATEDIF(M5,TODAY(),"Y")<3,"1-3 años",IF(DATEDIF(M5,TODAY(),"Y")<5,"3-5 años",IF(DATEDIF(M5,TODAY(),"Y")<10,"5-10 años",IF(DATEDIF(M5,TODAY(),"Y")<20,"10-20 años",">20 años")))))) -> 1-3 años | P5: 34700 | Q5: =ROUNDDOWN(((TODAY()-P5)/365),0) -> 31 | R5: =IF(Q5="","",IF(Q5<18,"<18",IF(Q5<=24,"18-24",IF(Q5<=34,"25-34",IF(Q5<=44,"35-44",IF(Q5<=54,"45-54",IF(Q5<=64,"55-64","64+"))))))) -> 25-34 | S5: Comercio al por mayor y al por menor; reparación de vehículos de motor y motocicletas | T5: 1 | V5: 1 | X5: 1 | Z5: 1 | BR5: =SUM(T5:BQ5) -> 4 | BS5: =IF(T5=1,"Préstamo","Sin préstamo") -> Préstamo | BT5: Activo | BU5: Mediano | BV5: Asesor de clientes empresariales | BW5: No | BX5: =IF(T5=1,RANDBETWEEN(0,5000000),"") -> 4607284 | BY5: =IF(OR(BX5="",ISBLANK(BX5)),"",IF(BX5>5000000,">5 mil", IF(BX5<=50000,"<=50k", IF(AND(BX5>50000,BX5<=100000),"50k-100k", IF(AND(BX5>100000,BX5<=250000),"100k-250k", IF(AND(BX5>250000,BX5<=750000),"250k-750k", IF(AND(BX5>750000,BX5<=5000000),"750k-5 mil","Desconocido"))))))) -> 750k-5 mil | BZ5: =RANDBETWEEN(0,2000000) -> 92451 | CB5: =BZ5+CA5 -> 92451 | CC5: Préstamo de inversión | CD5: Hipoteca | CE5: =IF(T5=1,RANDBETWEEN(1,10),"") -> 10 | CF5: =IF(OR(BX5="", ISBLANK(BX5)), "", BX5/CE5) -> 460728.4 | CG5: =IF(OR(ISBLANK(BX5), BX5=""), "", IF(OR(ISBLANK(CB5), CB5=0), "no deposits", BX5/CB5)) -> 49.834875 | CH5: =IF(CG5="","",IF(ISERROR(CG5),"no deposits",IF(CG5<100%,"1x",IF(CG5<500%,"1-5x",IF(CG5<1000%,"5-10x",IF(CG5<2000%,"10-20x",IF(CG5<5000%,"20-50x",IF(CG5<10000%,"50-100x",IF(CG5<50000%,"100-500x",">500x"))))))))) -> 20-50x | CI5: Amaestrado
A6: 11113 | B6: Región 9 | C6: 0 | D6: Si | E6: Si | F6: 0.15 | G6: =IF(OR(C6>=51%, AND(C6>=20%, D6="Si", E6="No"), AND(C6>=20%, D6="Si", E6="Si", F6>=30%)), "Si", "No") -> No | H6: n/a | I6: n/a | J6: 45292 | K6: =IF(J6=0,"",ROUNDDOWN(((TODAY()-J6)/365),0)) -> 2 | L6: =IF(ISBLANK(J6),"",IF(DATEDIF(J6,TODAY(),"Y")<1,"<12 meses", IF(DATEDIF(J6,TODAY(),"Y")<3,"1-3 años",IF(DATEDIF(J6,TODAY(),"Y")<5,"3-5 años",IF(DATEDIF(J6,TODAY(),"Y")<10,"5-10 años",IF(DATEDIF(J6,TODAY(),"Y")<20,"10-20 años",">20 años")))))) -> 1-3 años | M6: 45292 | N6: =IF(M6=0,"",ROUNDDOWN(((TODAY()-M6)/365),0)) -> 2 | O6: =IF(ISBLANK(M6),"",IF(DATEDIF(M6,TODAY(),"Y")<1,"<12 12 meses", IF(DATEDIF(M6,TODAY(),"Y")<3,"1-3 años",IF(DATEDIF(M6,TODAY(),"Y")<5,"3-5 años",IF(DATEDIF(M6,TODAY(),"Y")<10,"5-10 años",IF(DATEDIF(M6,TODAY(),"Y")<20,"10-20 años",">20 años")))))) -> 1-3 años | P6: 32874 | Q6: =ROUNDDOWN(((TODAY()-P6)/365),0) -> 36 | R6: =IF(Q6="","",IF(Q6<18,"<18",IF(Q6<=24,"18-24",IF(Q6<=34,"25-34",IF(Q6<=44,"35-44",IF(Q6<=54,"45-54",IF(Q6<=64,"55-64","64+"))))))) -> 35-44 | S6: Industria manufacturera | U6: 1 | W6: 1 | Y6: 1 | BR6: =SUM(T6:BQ6) -> 3 | BS6: =IF(T6=1,"Préstamo","Sin préstamo") -> Sin préstamo | BT6: Activo | BU6: Mediano | BV6: Asesor de clientes empresariales | BW6: No | BX6: =IF(T6=1,RANDBETWEEN(0,5000000),"") | BY6: =IF(OR(BX6="",ISBLANK(BX6)),"",IF(BX6>5000000,">5 mil", IF(BX6<=50000,"<=50k", IF(AND(BX6>50000,BX6<=100000),"50k-100k", IF(AND(BX6>100000,BX6<=250000),"100k-250k", IF(AND(BX6>250000,BX6<=750000),"250k-750k", IF(AND(BX6>750000,BX6<=5000000),"750k-5 mil","Desconocido"))))))) | BZ6: =RANDBETWEEN(0,2000000) -> 1844301 | CB6: =BZ6+CA6 -> 1844301 | CE6: =IF(T6=1,RANDBETWEEN(1,10),"") | CF6: =IF(OR(BX6="", ISBLANK(BX6)), "", BX6/CE6) | CG6: =IF(OR(ISBLANK(BX6), BX6=""), "", IF(OR(ISBLANK(CB6), CB6=0), "no deposits", BX6/CB6)) | CH6: =IF(CG6="","",IF(ISERROR(CG6),"no deposits",IF(CG6<100%,"1x",IF(CG6<500%,"1-5x",IF(CG6<1000%,"5-10x",IF(CG6<2000%,"10-20x",IF(CG6<5000%,"20-50x",IF(CG6<10000%,"50-100x",IF(CG6<50000%,"100-500x",">500x"))))))))) | CI6: n/a
A7: 11114 | B7: Región 5 | C7: 0.4 | D7: No | E7: Si | F7: 0.5 | G7: =IF(OR(C7>=51%, AND(C7>=20%, D7="Si", E7="No"), AND(C7>=20%, D7="Si", E7="Si", F7>=30%)), "Si", "No") -> No | H7: <= 10 | I7: <=500k EUR | J7: 45107 | K7: =IF(J7=0,"",ROUNDDOWN(((TODAY()-J7)/365),0)) -> 3 | L7: =IF(ISBLANK(J7),"",IF(DATEDIF(J7,TODAY(),"Y")<1,"<12 meses", IF(DATEDIF(J7,TODAY(),"Y")<3,"1-3 años",IF(DATEDIF(J7,TODAY(),"Y")<5,"3-5 años",IF(DATEDIF(J7,TODAY(),"Y")<10,"5-10 años",IF(DATEDIF(J7,TODAY(),"Y")<20,"10-20 años",">20 años")))))) -> 3-5 años | M7: 45107 | N7: =IF(M7=0,"",ROUNDDOWN(((TODAY()-M7)/365),0)) -> 3 | O7: =IF(ISBLANK(M7),"",IF(DATEDIF(M7,TODAY(),"Y")<1,"<12 12 meses", IF(DATEDIF(M7,TODAY(),"Y")<3,"1-3 años",IF(DATEDIF(M7,TODAY(),"Y")<5,"3-5 años",IF(DATEDIF(M7,TODAY(),"Y")<10,"5-10 años",IF(DATEDIF(M7,TODAY(),"Y")<20,"10-20 años",">20 años")))))) -> 3-5 años | P7: 31048 | Q7: =ROUNDDOWN(((TODAY()-P7)/365),0) -> 41 | R7: =IF(Q7="","",IF(Q7<18,"<18",IF(Q7<=24,"18-24",IF(Q7<=34,"25-34",IF(Q7<=44,"35-44",IF(Q7<=54,"45-54",IF(Q7<=64,"55-64","64+"))))))) -> 35-44 | S7: Actividades administrativas y de servicios auxiliares | T7: 1 | V7: 1 | X7: 1 | Z7: 1 | BR7: =SUM(T7:BQ7) -> 4 | BS7: =IF(T7=1,"Préstamo","Sin préstamo") -> Préstamo | BT7: Activo | BU7: Pequeño | BV7: Asesor de clientes empresariales | BW7: No | BX7: =IF(T7=1,RANDBETWEEN(0,5000000),"") -> 2881831 | BY7: =IF(OR(BX7="",ISBLANK(BX7)),"",IF(BX7>5000000,">5 mil", IF(BX7<=50000,"<=50k", IF(AND(BX7>50000,BX7<=100000),"50k-100k", IF(AND(BX7>100000,BX7<=250000),"100k-250k", IF(AND(BX7>250000,BX7<=750000),"250k-750k", IF(AND(BX7>750000,BX7<=5000000),"750k-5 mil","Desconocido"))))))) -> 750k-5 mil | BZ7: =RANDBETWEEN(0,2000000) -> 1233001 | CB7: =BZ7+CA7 -> 1233001 | CC7: Capital de explotación | CD7: Hipoteca | CE7: =IF(T7=1,RANDBETWEEN(1,10),"") -> 4 | CF7: =IF(OR(BX7="", ISBLANK(BX7)), "", BX7/CE7) -> 720457.75 | CG7: =IF(OR(ISBLANK(BX7), BX7=""), "", IF(OR(ISBLANK(CB7), CB7=0), "no deposits", BX7/CB7)) -> 2.3372495 | CH7: =IF(CG7="","",IF(ISERROR(CG7),"no deposits",IF(CG7<100%,"1x",IF(CG7<500%,"1-5x",IF(CG7<1000%,"5-10x",IF(CG7<2000%,"10-20x",IF(CG7<5000%,"20-50x",IF(CG7<10000%,"50-100x",IF(CG7<50000%,"100-500x",">500x"))))))))) -> 1-5x | CI7: Amaestrado
A8: 11115 | B8: Región 4 | C8: 0.15 | D8: Si | E8: No | G8: =IF(OR(C8>=51%, AND(C8>=20%, D8="Si", E8="No"), AND(C8>=20%, D8="Si", E8="Si", F8>=30%)), "Si", "No") -> No | H8: n/a | I8: n/a | J8: 44927 | K8: =IF(J8=0,"",ROUNDDOWN(((TODAY()-J8)/365),0)) -> 3 | L8: =IF(ISBLANK(J8),"",IF(DATEDIF(J8,TODAY(),"Y")<1,"<12 meses", IF(DATEDIF(J8,TODAY(),"Y")<3,"1-3 años",IF(DATEDIF(J8,TODAY(),"Y")<5,"3-5 años",IF(DATEDIF(J8,TODAY(),"Y")<10,"5-10 años",IF(DATEDIF(J8,TODAY(),"Y")<20,"10-20 años",">20 años")))))) -> 3-5 años | M8: 44927 | N8: =IF(M8=0,"",ROUNDDOWN(((TODAY()-M8)/365),0)) -> 3 | O8: =IF(ISBLANK(M8),"",IF(DATEDIF(M8,TODAY(),"Y")<1,"<12 12 meses", IF(DATEDIF(M8,TODAY(),"Y")<3,"1-3 años",IF(DATEDIF(M8,TODAY(),"Y")<5,"3-5 años",IF(DATEDIF(M8,TODAY(),"Y")<10,"5-10 años",IF(DATEDIF(M8,TODAY(),"Y")<20,"10-20 años",">20 años")))))) -> 3-5 años | P8: 29221 | Q8: =ROUNDDOWN(((TODAY()-P8)/365),0) -> 46 | R8: =IF(Q8="","",IF(Q8<18,"<18",IF(Q8<=24,"18-24",IF(Q8<=34,"25-34",IF(Q8<=44,"35-44",IF(Q8<=54,"45-54",IF(Q8<=64,"55-64","64+"))))))) -> 45-54 | S8: Actividades profesionales, científicas y técnicas | U8: 1 | V8: 1 | W8: 1 | X8: 1 | Y8: 1 | Z8: 1 | BR8: =SUM(T8:BQ8) -> 6 | BS8: =IF(T8=1,"Préstamo","Sin préstamo") -> Sin préstamo | BT8: Activo | BU8: Muy pequeño | BV8: Unidad muy pequeña | BW8: No | BX8: =IF(T8=1,RANDBETWEEN(0,5000000),"") | BY8: =IF(OR(BX8="",ISBLANK(BX8)),"",IF(BX8>5000000,">5 mil", IF(BX8<=50000,"<=50k", IF(AND(BX8>50000,BX8<=100000),"50k-100k", IF(AND(BX8>100000,BX8<=250000),"100k-250k", IF(AND(BX8>250000,BX8<=750000),"250k-750k", IF(AND(BX8>750000,BX8<=5000000),"750k-5 mil","Desconocido"))))))) | BZ8: =RANDBETWEEN(0,2000000) -> 1921386 | CB8: =BZ8+CA8 -> 1921386 | CE8: =IF(T8=1,RANDBETWEEN(1,10),"") | CF8: =IF(OR(BX8="", ISBLANK(BX8)), "", BX8/CE8) | CG8: =IF(OR(ISBLANK(BX8), BX8=""), "", IF(OR(ISBLANK(CB8), CB8=0), "no deposits", BX8/CB8)) | CH8: =IF(CG8="","",IF(ISERROR(CG8),"no deposits",IF(CG8<100%,"1x",IF(CG8<500%,"1-5x",IF(CG8<1000%,"5-10x",IF(CG8<2000%,"10-20x",IF(CG8<5000%,"20-50x",IF(CG8<10000%,"50-100x",IF(CG8<50000%,"100-500x",">500x"))))))))) | CI8: n/a
A9: 11116 | B9: Región 1 | C9: 0.2 | D9: No | E9: No | G9: =IF(OR(C9>=51%, AND(C9>=20%, D9="Si", E9="No"), AND(C9>=20%, D9="Si", E9="Si", F9>=30%)), "Si", "No") -> No | H9: n/a | I9: >2 mil EUR | J9: 44742 | K9: =IF(J9=0,"",ROUNDDOWN(((TODAY()-J9)/365),0)) -> 4 | L9: =IF(ISBLANK(J9),"",IF(DATEDIF(J9,TODAY(),"Y")<1,"<12 meses", IF(DATEDIF(J9,TODAY(),"Y")<3,"1-3 años",IF(DATEDIF(J9,TODAY(),"Y")<5,"3-5 años",IF(DATEDIF(J9,TODAY(),"Y")<10,"5-10 años",IF(DATEDIF(J9,TODAY(),"Y")<20,"10-20 años",">20 años")))))) -> 3-5 años | M9: 44742 | N9: =IF(M9=0,"",ROUNDDOWN(((TODAY()-M9)/365),0)) -> 4 | O9: =IF(ISBLANK(M9),"",IF(DATEDIF(M9,TODAY(),"Y")<1,"<12 12 meses", IF(DATEDIF(M9,TODAY(),"Y")<3,"1-3 años",IF(DATEDIF(M9,TODAY(),"Y")<5,"3-5 años",IF(DATEDIF(M9,TODAY(),"Y")<10,"5-10 años",IF(DATEDIF(M9,TODAY(),"Y")<20,"10-20 años",">20 años")))))) -> 3-5 años | P9: 27395 | Q9: =ROUNDDOWN(((TODAY()-P9)/365),0) -> 51 | R9: =IF(Q9="","",IF(Q9<18,"<18",IF(Q9<=24,"18-24",IF(Q9<=34,"25-34",IF(Q9<=44,"35-44",IF(Q9<=54,"45-54",IF(Q9<=64,"55-64","64+"))))))) -> 45-54 | S9: Comercio al por mayor y al por menor; reparación de vehículos de motor y motocicletas | V9: 1 | X9: 1 | Z9: 1 | BR9: =SUM(T9:BQ9) -> 3 | BS9: =IF(T9=1,"Préstamo","Sin préstamo") -> Sin préstamo | BT9: Activo | BU9: Muy pequeño | BV9: Unidad muy pequeña | BW9: No | BX9: =IF(T9=1,RANDBETWEEN(0,5000000),"") | BY9: =IF(OR(BX9="",ISBLANK(BX9)),"",IF(BX9>5000000,">5 mil", IF(BX9<=50000,"<=50k", IF(AND(BX9>50000,BX9<=100000),"50k-100k", IF(AND(BX9>100000,BX9<=250000),"100k-250k", IF(AND(BX9>250000,BX9<=750000),"250k-750k", IF(AND(BX9>750000,BX9<=5000000),"750k-5 mil","Desconocido"))))))) | BZ9: =RANDBETWEEN(0,2000000) -> 1264099 | CB9: =BZ9+CA9 -> 1264099 | CE9: =IF(T9=1,RANDBETWEEN(1,10),"") | CF9: =IF(OR(BX9="", ISBLANK(BX9)), "", BX9/CE9) | CG9: =IF(OR(ISBLANK(BX9), BX9=""), "", IF(OR(ISBLANK(CB9), CB9=0), "no deposits", BX9/CB9)) | CH9: =IF(CG9="","",IF(ISERROR(CG9),"no deposits",IF(CG9<100%,"1x",IF(CG9<500%,"1-5x",IF(CG9<1000%,"5-10x",IF(CG9<2000%,"10-20x",IF(CG9<5000%,"20-50x",IF(CG9<10000%,"50-100x",IF(CG9<50000%,"100-500x",">500x"))))))))) | CI9: n/a
A10: 11117 | B10: Región 1 | C10: 0.3 | D10: Si | E10: Si | F10: 0.15 | G10: =IF(OR(C10>=51%, AND(C10>=20%, D10="Si", E10="No"), AND(C10>=20%, D10="Si", E10="Si", F10>=30%)), "Si", "No") -> No | H10: <=50 | I10: <=2 mil EUR | J10: 44562 | K10: =IF(J10=0,"",ROUNDDOWN(((TODAY()-J10)/365),0)) -> 4 | L10: =IF(ISBLANK(J10),"",IF(DATEDIF(J10,TODAY(),"Y")<1,"<12 meses", IF(DATEDIF(J10,TODAY(),"Y")<3,"1-3 años",IF(DATEDIF(J10,TODAY(),"Y")<5,"3-5 años",IF(DATEDIF(J10,TODAY(),"Y")<10,"5-10 años",IF(DATEDIF(J10,TODAY(),"Y")<20,"10-20 años",">20 años")))))) -> 3-5 años | M10: 44562 | N10: =IF(M10=0,"",ROUNDDOWN(((TODAY()-M10)/365),0)) -> 4 | O10: =IF(ISBLANK(M10),"",IF(DATEDIF(M10,TODAY(),"Y")<1,"<12 12 meses", IF(DATEDIF(M10,TODAY(),"Y")<3,"1-3 años",IF(DATEDIF(M10,TODAY(),"Y")<5,"3-5 años",IF(DATEDIF(M10,TODAY(),"Y")<10,"5-10 años",IF(DATEDIF(M10,TODAY(),"Y")<20,"10-20 años",">20 años")))))) -> 3-5 años | P10: 25569 | Q10: =ROUNDDOWN(((TODAY()-P10)/365),0) -> 56 | R10: =IF(Q10="","",IF(Q10<18,"<18",IF(Q10<=24,"18-24",IF(Q10<=34,"25-34",IF(Q10<=44,"35-44",IF(Q10<=54,"45-54",IF(Q10<=64,"55-64","64+"))))))) -> 55-64 | S10: Actividades profesionales, científicas y técnicas | T10: 1 | U10: 1 | V10: 1 | W10: 1 | X10: 1 | BR10: =SUM(T10:BQ10) -> 5 | BS10: =IF(T10=1,"Préstamo","Sin préstamo") -> Préstamo | BT10: Activo | BU10: Pequeño | BV10: Asesor de clientes empresariales | BW10: No | BX10: =IF(T10=1,RANDBETWEEN(0,5000000),"") -> 3586202 | BY10: =IF(OR(BX10="",ISBLANK(BX10)),"",IF(BX10>5000000,">5 mil", IF(BX10<=50000,"<=50k", IF(AND(BX10>50000,BX10<=100000),"50k-100k", IF(AND(BX10>100000,BX10<=250000),"100k-250k", IF(AND(BX10>250000,BX10<=750000),"250k-750k", IF(AND(BX10>750000,BX10<=5000000),"750k-5 mil","Desconocido"))))))) -> 750k-5 mil | BZ10: =RANDBETWEEN(0,2000000) -> 333049 | CB10: =BZ10+CA10 -> 333049 | CC10: Capital de explotación | CD10: Prenda de cuentas por cobrar | CE10: =IF(T10=1,RANDBETWEEN(1,10),"") -> 9 | CF10: =IF(OR(BX10="", ISBLANK(BX10)), "", BX10/CE10) -> 398466.89 | CG10: =IF(OR(ISBLANK(BX10), BX10=""), "", IF(OR(ISBLANK(CB10), CB10=0), "no deposits", BX10/CB10)) -> 10.767791 | CH10: =IF(CG10="","",IF(ISERROR(CG10),"no deposits",IF(CG10<100%,"1x",IF(CG10<500%,"1-5x",IF(CG10<1000%,"5-10x",IF(CG10<2000%,"10-20x",IF(CG10<5000%,"20-50x",IF(CG10<10000%,"50-100x",IF(CG10<50000%,"100-500x",">500x"))))))))) -> 10-20x | CI10: Amaestrado
A11: 11118 | B11: Región 1 | C11: 0.4 | D11: No | E11: Si | F11: 0.3 | G11: =IF(OR(C11>=51%, AND(C11>=20%, D11="Si", E11="No"), AND(C11>=20%, D11="Si", E11="Si", F11>=30%)), "Si", "No") -> No | H11: n/a | I11: n/a | J11: 44377 | K11: =IF(J11=0,"",ROUNDDOWN(((TODAY()-J11)/365),0)) -> 5 | L11: =IF(ISBLANK(J11),"",IF(DATEDIF(J11,TODAY(),"Y")<1,"<12 meses", IF(DATEDIF(J11,TODAY(),"Y")<3,"1-3 años",IF(DATEDIF(J11,TODAY(),"Y")<5,"3-5 años",IF(DATEDIF(J11,TODAY(),"Y")<10,"5-10 años",IF(DATEDIF(J11,TODAY(),"Y")<20,"10-20 años",">20 años")))))) -> 5-10 años | M11: 44377 | N11: =IF(M11=0,"",ROUNDDOWN(((TODAY()-M11)/365),0)) -> 5 | O11: =IF(ISBLANK(M11),"",IF(DATEDIF(M11,TODAY(),"Y")<1,"<12 12 meses", IF(DATEDIF(M11,TODAY(),"Y")<3,"1-3 años",IF(DATEDIF(M11,TODAY(),"Y")<5,"3-5 años",IF(DATEDIF(M11,TODAY(),"Y")<10,"5-10 años",IF(DATEDIF(M11,TODAY(),"Y")<20,"10-20 años",">20 años")))))) -> 5-10 años | P11: 23743 | Q11: =ROUNDDOWN(((TODAY()-P11)/365),0) -> 61 | R11: =IF(Q11="","",IF(Q11<18,"<18",IF(Q11<=24,"18-24",IF(Q11<=34,"25-34",IF(Q11<=44,"35-44",IF(Q11<=54,"45-54",IF(Q11<=64,"55-64","64+"))))))) -> 55-64 | S11: Comercio al por mayor y al por menor; reparación de vehículos de motor y motocicletas | V11: 1 | X11: 1 | Z11: 1 | BR11: =SUM(T11:BQ11) -> 3 | BS11: =IF(T11=1,"Préstamo","Sin préstamo") -> Sin préstamo | BT11: Activo | BU11: Pequeño | BV11: Asesor de clientes empresariales | BW11: No | BX11: =IF(T11=1,RANDBETWEEN(0,5000000),"") | BY11: =IF(OR(BX11="",ISBLANK(BX11)),"",IF(BX11>5000000,">5 mil", IF(BX11<=50000,"<=50k", IF(AND(BX11>50000,BX11<=100000),"50k-100k", IF(AND(BX11>100000,BX11<=250000),"100k-250k", IF(AND(BX11>250000,BX11<=750000),"250k-750k", IF(AND(BX11>750000,BX11<=5000000),"750k-5 mil","Desconocido"))))))) | BZ11: =RANDBETWEEN(0,2000000) -> 1084074 | CB11: =BZ11+CA11 -> 1084074 | CE11: =IF(T11=1,RANDBETWEEN(1,10),"") | CF11: =IF(OR(BX11="", ISBLANK(BX11)), "", BX11/CE11) | CG11: =IF(OR(ISBLANK(BX11), BX11=""), "", IF(OR(ISBLANK(CB11), CB11=0), "no deposits", BX11/CB11)) | CH11: =IF(CG11="","",IF(ISERROR(CG11),"no deposits",IF(CG11<100%,"1x",IF(CG11<500%,"1-5x",IF(CG11<1000%,"5-10x",IF(CG11<2000%,"10-20x",IF(CG11<5000%,"20-50x",IF(CG11<10000%,"50-100x",IF(CG11<50000%,"100-500x",">500x"))))))))) | CI11: n/a
A12: 11119 | B12: Región 5 | C12: 0.5 | D12: Si | E12: No | G12: =IF(OR(C12>=51%, AND(C12>=20%, D12="Si", E12="No"), AND(C12>=20%, D12="Si", E12="Si", F12>=30%)), "Si", "No") -> Si | H12: n/a | I12: n/a | J12: 44197 | K12: =IF(J12=0,"",ROUNDDOWN(((TODAY()-J12)/365),0)) -> 5 | L12: =IF(ISBLANK(J12),"",IF(DATEDIF(J12,TODAY(),"Y")<1,"<12 meses", IF(DATEDIF(J12,TODAY(),"Y")<3,"1-3 años",IF(DATEDIF(J12,TODAY(),"Y")<5,"3-5 años",IF(DATEDIF(J12,TODAY(),"Y")<10,"5-10 años",IF(DATEDIF(J12,TODAY(),"Y")<20,"10-20 años",">20 años")))))) -> 5-10 años | M12: 44197 | N12: =IF(M12=0,"",ROUNDDOWN(((TODAY()-M12)/365),0)) -> 5 | O12: =IF(ISBLANK(M12),"",IF(DATEDIF(M12,TODAY(),"Y")<1,"<12 12 meses", IF(DATEDIF(M12,TODAY(),"Y")<3,"1-3 años",IF(DATEDIF(M12,TODAY(),"Y")<5,"3-5 años",IF(DATEDIF(M12,TODAY(),"Y")<10,"5-10 años",IF(DATEDIF(M12,TODAY(),"Y")<20,"10-20 años",">20 años")))))) -> 5-10 años | P12: 36526 | Q12: =ROUNDDOWN(((TODAY()-P12)/365),0) -> 26 | R12: =IF(Q12="","",IF(Q12<18,"<18",IF(Q12<=24,"18-24",IF(Q12<=34,"25-34",IF(Q12<=44,"35-44",IF(Q12<=54,"45-54",IF(Q12<=64,"55-64","64+"))))))) -> 25-34 | S12: Actividades profesionales, científicas y técnicas | U12: 1 | W12: 1 | Y12: 1 | BR12: =SUM(T12:BQ12) -> 3 | BS12: =IF(T12=1,"Préstamo","Sin préstamo") -> Sin préstamo | BT12: Activo | BU12: Muy pequeño | BV12: Unidad muy pequeña | BW12: No | BX12: =IF(T12=1,RANDBETWEEN(0,5000000),"") | BY12: =IF(OR(BX12="",ISBLANK(BX12)),"",IF(BX12>5000000,">5 mil", IF(BX12<=50000,"<=50k", IF(AND(BX12>50000,BX12<=100000),"50k-100k", IF(AND(BX12>100000,BX12<=250000),"100k-250k", IF(AND(BX12>250000,BX12<=750000),"250k-750k", IF(AND(BX12>750000,BX12<=5000000),"750k-5 mil","Desconocido"))))))) | BZ12: =RANDBETWEEN(0,2000000) -> 933833 | CB12: =BZ12+CA12 -> 933833 | CE12: =IF(T12=1,RANDBETWEEN(1,10),"") | CF12: =IF(OR(BX12="", ISBLANK(BX12)), "", BX12/CE12) | CG12: =IF(OR(ISBLANK(BX12), BX12=""), "", IF(OR(ISBLANK(CB12), CB12=0), "no deposits", BX12/CB12)) | CH12: =IF(CG12="","",IF(ISERROR(CG12),"no deposits",IF(CG12<100%,"1x",IF(CG12<500%,"1-5x",IF(CG12<1000%,"5-10x",IF(CG12<2000%,"10-20x",IF(CG12<5000%,"20-50x",IF(CG12<10000%,"50-100x",IF(CG12<50000%,"100-500x",">500x"))))))))) | CI12: n/a
A13: 11120 | B13: Región 1 | C13: 0.6 | D13: No | E13: No | G13: =IF(OR(C13>=51%, AND(C13>=20%, D13="Si", E13="No"), AND(C13>=20%, D13="Si", E13="Si", F13>=30%)), "Si", "No") -> Si | H13: n/a | I13: <=500k EUR | J13: 44012 | K13: =IF(J13=0,"",ROUNDDOWN(((TODAY()-J13)/365),0)) -> 6 | L13: =IF(ISBLANK(J13),"",IF(DATEDIF(J13,TODAY(),"Y")<1,"<12 meses", IF(DATEDIF(J13,TODAY(),"Y")<3,"1-3 años",IF(DATEDIF(J13,TODAY(),"Y")<5,"3-5 años",IF(DATEDIF(J13,TODAY(),"Y")<10,"5-10 años",IF(DATEDIF(J13,TODAY(),"Y")<20,"10-20 años",">20 años")))))) -> 5-10 años | M13: 44012 | N13: =IF(M13=0,"",ROUNDDOWN(((TODAY()-M13)/365),0)) -> 6 | O13: =IF(ISBLANK(M13),"",IF(DATEDIF(M13,TODAY(),"Y")<1,"<12 12 meses", IF(DATEDIF(M13,TODAY(),"Y")<3,"1-3 años",IF(DATEDIF(M13,TODAY(),"Y")<5,"3-5 años",IF(DATEDIF(M13,TODAY(),"Y")<10,"5-10 años",IF(DATEDIF(M13,TODAY(),"Y")<20,"10-20 años",">20 años")))))) -> 5-10 años | P13: 34700 | Q13: =ROUNDDOWN(((TODAY()-P13)/365),0) -> 31 | R13: =IF(Q13="","",IF(Q13<18,"<18",IF(Q13<=24,"18-24",IF(Q13<=34,"25-34",IF(Q13<=44,"35-44",IF(Q13<=54,"45-54",IF(Q13<=64,"55-64","64+"))))))) -> 25-34 | S13: Construcción | V13: 1 | X13: 1 | Z13: 1 | BR13: =SUM(T13:BQ13) -> 3 | BS13: =IF(T13=1,"Préstamo","Sin préstamo") -> Sin préstamo | BT13: Activo | BU13: Muy pequeño | BV13: Unidad muy pequeña | BW13: No | BX13: =IF(T13=1,RANDBETWEEN(0,5000000),"") | BY13: =IF(OR(BX13="",ISBLANK(BX13)),"",IF(BX13>5000000,">5 mil", IF(BX13<=50000,"<=50k", IF(AND(BX13>50000,BX13<=100000),"50k-100k", IF(AND(BX13>100000,BX13<=250000),"100k-250k", IF(AND(BX13>250000,BX13<=750000),"250k-750k", IF(AND(BX13>750000,BX13<=5000000),"750k-5 mil","Desconocido"))))))) | BZ13: =RANDBETWEEN(0,2000000) -> 1636880 | CB13: =BZ13+CA13 -> 1636880 | CE13: =IF(T13=1,RANDBETWEEN(1,10),"") | CF13: =IF(OR(BX13="", ISBLANK(BX13)), "", BX13/CE13) | CG13: =IF(OR(ISBLANK(BX13), BX13=""), "", IF(OR(ISBLANK(CB13), CB13=0), "no deposits", BX13/CB13)) | CH13: =IF(CG13="","",IF(ISERROR(CG13),"no deposits",IF(CG13<100%,"1x",IF(CG13<500%,"1-5x",IF(CG13<1000%,"5-10x",IF(CG13<2000%,"10-20x",IF(CG13<5000%,"20-50x",IF(CG13<10000%,"50-100x",IF(CG13<50000%,"100-500x",">500x"))))))))) | CI13: n/a
A14: 11121 | B14: Región 1 | C14: 0.7 | D14: Si | E14: Si | F14: 0.4 | G14: =IF(OR(C14>=51%, AND(C14>=20%, D14="Si", E14="No"), AND(C14>=20%, D14="Si", E14="Si", F14>=30%)), "Si", "No") -> Si | H14: n/a | I14: <=500k EUR | J14: 43831 | K14: =IF(J14=0,"",ROUNDDOWN(((TODAY()-J14)/365),0)) -> 6 | L14: =IF(ISBLANK(J14),"",IF(DATEDIF(J14,TODAY(),"Y")<1,"<12 meses", IF(DATEDIF(J14,TODAY(),"Y")<3,"1-3 años",IF(DATEDIF(J14,TODAY(),"Y")<5,"3-5 años",IF(DATEDIF(J14,TODAY(),"Y")<10,"5-10 años",IF(DATEDIF(J14,TODAY(),"Y")<20,"10-20 años",">20 años")))))) -> 5-10 años | M14: 43831 | N14: =IF(M14=0,"",ROUNDDOWN(((TODAY()-M14)/365),0)) -> 6 | O14: =IF(ISBLANK(M14),"",IF(DATEDIF(M14,TODAY(),"Y")<1,"<12 12 meses", IF(DATEDIF(M14,TODAY(),"Y")<3,"1-3 años",IF(DATEDIF(M14,TODAY(),"Y")<5,"3-5 años",IF(DATEDIF(M14,TODAY(),"Y")<10,"5-10 años",IF(DATEDIF(M14,TODAY(),"Y")<20,"10-20 años",">20 años")))))) -> 5-10 años | P14: 32874 | Q14: =ROUNDDOWN(((TODAY()-P14)/365),0) -> 36 | R14: =IF(Q14="","",IF(Q14<18,"<18",IF(Q14<=24,"18-24",IF(Q14<=34,"25-34",IF(Q14<=44,"35-44",IF(Q14<=54,"45-54",IF(Q14<=64,"55-64","64+"))))))) -> 35-44 | S14: Actividades profesionales, científicas y técnicas | U14: 1 | V14: 1 | W14: 1 | X14: 1 | Y14: 1 | Z14: 1 | BR14: =SUM(T14:BQ14) -> 6 | BS14: =IF(T14=1,"Préstamo","Sin préstamo") -> Sin préstamo | BT14: Activo | BU14: Muy pequeño | BV14: Unidad muy pequeña | BW14: No | BX14: =IF(T14=1,RANDBETWEEN(0,5000000),"") | BY14: =IF(OR(BX14="",ISBLANK(BX14)),"",IF(BX14>5000000,">5 mil", IF(BX14<=50000,"<=50k", IF(AND(BX14>50000,BX14<=100000),"50k-100k", IF(AND(BX14>100000,BX14<=250000),"100k-250k", IF(AND(BX14>250000,BX14<=750000),"250k-750k", IF(AND(BX14>750000,BX14<=5000000),"750k-5 mil","Desconocido"))))))) | BZ14: =RANDBETWEEN(0,2000000) -> 273195 | CB14: =BZ14+CA14 -> 273195 | CE14: =IF(T14=1,RANDBETWEEN(1,10),"") | CF14: =IF(OR(BX14="", ISBLANK(BX14)), "", BX14/CE14) | CG14: =IF(OR(ISBLANK(BX14), BX14=""), "", IF(OR(ISBLANK(CB14), CB14=0), "no deposits", BX14/CB14)) | CH14: =IF(CG14="","",IF(ISERROR(CG14),"no deposits",IF(CG14<100%,"1x",IF(CG14<500%,"1-5x",IF(CG14<1000%,"5-10x",IF(CG14<2000%,"10-20x",IF(CG14<5000%,"20-50x",IF(CG14<10000%,"50-100x",IF(CG14<50000%,"100-500x",">500x"))))))))) | CI14: n/a
A15: 11122 | B15: Región 7 | C15: 0.8 | D15: No | E15: Si | F15: 0.75 | G15: =IF(OR(C15>=51%, AND(C15>=20%, D15="Si", E15="No"), AND(C15>=20%, D15="Si", E15="Si", F15>=30%)), "Si", "No") -> Si | H15: n/a | I15: n/a | J15: 43646 | K15: =IF(J15=0,"",ROUNDDOWN(((TODAY()-J15)/365),0)) -> 7 | L15: =IF(ISBLANK(J15),"",IF(DATEDIF(J15,TODAY(),"Y")<1,"<12 meses", IF(DATEDIF(J15,TODAY(),"Y")<3,"1-3 años",IF(DATEDIF(J15,TODAY(),"Y")<5,"3-5 años",IF(DATEDIF(J15,TODAY(),"Y")<10,"5-10 años",IF(DATEDIF(J15,TODAY(),"Y")<20,"10-20 años",">20 años")))))) -> 5-10 años | M15: 43646 | N15: =IF(M15=0,"",ROUNDDOWN(((TODAY()-M15)/365),0)) -> 7 | O15: =IF(ISBLANK(M15),"",IF(DATEDIF(M15,TODAY(),"Y")<1,"<12 12 meses", IF(DATEDIF(M15,TODAY(),"Y")<3,"1-3 años",IF(DATEDIF(M15,TODAY(),"Y")<5,"3-5 años",IF(DATEDIF(M15,TODAY(),"Y")<10,"5-10 años",IF(DATEDIF(M15,TODAY(),"Y")<20,"10-20 años",">20 años")))))) -> 5-10 años | P15: 31048 | Q15: =ROUNDDOWN(((TODAY()-P15)/365),0) -> 41 | R15: =IF(Q15="","",IF(Q15<18,"<18",IF(Q15<=24,"18-24",IF(Q15<=34,"25-34",IF(Q15<=44,"35-44",IF(Q15<=54,"45-54",IF(Q15<=64,"55-64","64+"))))))) -> 35-44 | S15: Industria manufacturera | V15: 1 | X15: 1 | Z15: 1 | BR15: =SUM(T15:BQ15) -> 3 | BS15: =IF(T15=1,"Préstamo","Sin préstamo") -> Sin préstamo | BT15: Activo | BU15: Pequeño | BV15: Asesor de clientes empresariales | BW15: No | BX15: =IF(T15=1,RANDBETWEEN(0,5000000),"") | BY15: =IF(OR(BX15="",ISBLANK(BX15)),"",IF(BX15>5000000,">5 mil", IF(BX15<=50000,"<=50k", IF(AND(BX15>50000,BX15<=100000),"50k-100k", IF(AND(BX15>100000,BX15<=250000),"100k-250k", IF(AND(BX15>250000,BX15<=750000),"250k-750k", IF(AND(BX15>750000,BX15<=5000000),"750k-5 mil","Desconocido"))))))) | BZ15: =RANDBETWEEN(0,2000000) -> 55010 | CB15: =BZ15+CA15 -> 55010 | CE15: =IF(T15=1,RANDBETWEEN(1,10),"") | CF15: =IF(OR(BX15="", ISBLANK(BX15)), "", BX15/CE15) | CG15: =IF(OR(ISBLANK(BX15), BX15=""), "", IF(OR(ISBLANK(CB15), CB15=0), "no deposits", BX15/CB15)) | CH15: =IF(CG15="","",IF(ISERROR(CG15),"no deposits",IF(CG15<100%,"1x",IF(CG15<500%,"1-5x",IF(CG15<1000%,"5-10x",IF(CG15<2000%,"10-20x",IF(CG15<5000%,"20-50x",IF(CG15<10000%,"50-100x",IF(CG15<50000%,"100-500x",">500x"))))))))) | CI15: n/a
A16: 11123 | B16: Región 8 | C16: 0.75 | D16: Si | E16: No | G16: =IF(OR(C16>=51%, AND(C16>=20%, D16="Si", E16="No"), AND(C16>=20%, D16="Si", E16="Si", F16>=30%)), "Si", "No") -> Si | H16: n/a | I16: <=500k EUR | J16: 43466 | K16: =IF(J16=0,"",ROUNDDOWN(((TODAY()-J16)/365),0)) -> 7 | L16: =IF(ISBLANK(J16),"",IF(DATEDIF(J16,TODAY(),"Y")<1,"<12 meses", IF(DATEDIF(J16,TODAY(),"Y")<3,"1-3 años",IF(DATEDIF(J16,TODAY(),"Y")<5,"3-5 años",IF(DATEDIF(J16,TODAY(),"Y")<10,"5-10 años",IF(DATEDIF(J16,TODAY(),"Y")<20,"10-20 años",">20 años")))))) -> 5-10 años | M16: 43466 | N16: =IF(M16=0,"",ROUNDDOWN(((TODAY()-M16)/365),0)) -> 7 | O16: =IF(ISBLANK(M16),"",IF(DATEDIF(M16,TODAY(),"Y")<1,"<12 12 meses", IF(DATEDIF(M16,TODAY(),"Y")<3,"1-3 años",IF(DATEDIF(M16,TODAY(),"Y")<5,"3-5 años",IF(DATEDIF(M16,TODAY(),"Y")<10,"5-10 años",IF(DATEDIF(M16,TODAY(),"Y")<20,"10-20 años",">20 años")))))) -> 5-10 años | P16: 29221 | Q16: =ROUNDDOWN(((TODAY()-P16)/365),0) -> 46 | R16: =IF(Q16="","",IF(Q16<18,"<18",IF(Q16<=24,"18-24",IF(Q16<=34,"25-34",IF(Q16<=44,"35-44",IF(Q16<=54,"45-54",IF(Q16<=64,"55-64","64+"))))))) -> 45-54 | S16: Comercio al por mayor y al por menor; reparación de vehículos de motor y motocicletas | U16: 1 | V16: 1 | W16: 1 | X16: 1 | BR16: =SUM(T16:BQ16) -> 4 | BS16: =IF(T16=1,"Préstamo","Sin préstamo") -> Sin préstamo | BT16: Activo | BU16: Muy pequeño | BV16: Unidad muy pequeña | BW16: No | BX16: =IF(T16=1,RANDBETWEEN(0,5000000),"") | BY16: =IF(OR(BX16="",ISBLANK(BX16)),"",IF(BX16>5000000,">5 mil", IF(BX16<=50000,"<=50k", IF(AND(BX16>50000,BX16<=100000),"50k-100k", IF(AND(BX16>100000,BX16<=250000),"100k-250k", IF(AND(BX16>250000,BX16<=750000),"250k-750k", IF(AND(BX16>750000,BX16<=5000000),"750k-5 mil","Desconocido"))))))) | BZ16: =RANDBETWEEN(0,2000000) -> 389142 | CB16: =BZ16+CA16 -> 389142 | CE16: =IF(T16=1,RANDBETWEEN(1,10),"") | CF16: =IF(OR(BX16="", ISBLANK(BX16)), "", BX16/CE16) | CG16: =IF(OR(ISBLANK(BX16), BX16=""), "", IF(OR(ISBLANK(CB16), CB16=0), "no deposits", BX16/CB16)) | CH16: =IF(CG16="","",IF(ISERROR(CG16),"no deposits",IF(CG16<100%,"1x",IF(CG16<500%,"1-5x",IF(CG16<1000%,"5-10x",IF(CG16<2000%,"10-20x",IF(CG16<5000%,"20-50x",IF(CG16<10000%,"50-100x",IF(CG16<50000%,"100-500x",">500x"))))))))) | CI16: n/a
A17: 11124 | B17: Región 11 | C17: 1 | D17: No | E17: No | G17: =IF(OR(C17>=51%, AND(C17>=20%, D17="Si", E17="No"), AND(C17>=20%, D17="Si", E17="Si", F17>=30%)), "Si", "No") -> Si | H17: n/a | I17: n/a | J17: 43281 | K17: =IF(J17=0,"",ROUNDDOWN(((TODAY()-J17)/365),0)) -> 8 | L17: =IF(ISBLANK(J17),"",IF(DATEDIF(J17,TODAY(),"Y")<1,"<12 meses", IF(DATEDIF(J17,TODAY(),"Y")<3,"1-3 años",IF(DATEDIF(J17,TODAY(),"Y")<5,"3-5 años",IF(DATEDIF(J17,TODAY(),"Y")<10,"5-10 años",IF(DATEDIF(J17,TODAY(),"Y")<20,"10-20 años",">20 años")))))) -> 5-10 años | M17: 43281 | N17: =IF(M17=0,"",ROUNDDOWN(((TODAY()-M17)/365),0)) -> 8 | O17: =IF(ISBLANK(M17),"",IF(DATEDIF(M17,TODAY(),"Y")<1,"<12 12 meses", IF(DATEDIF(M17,TODAY(),"Y")<3,"1-3 años",IF(DATEDIF(M17,TODAY(),"Y")<5,"3-5 años",IF(DATEDIF(M17,TODAY(),"Y")<10,"5-10 años",IF(DATEDIF(M17,TODAY(),"Y")<20,"10-20 años",">20 años")))))) -> 5-10 años | P17: 27395 | Q17: =ROUNDDOWN(((TODAY()-P17)/365),0) -> 51 | R17: =IF(Q17="","",IF(Q17<18,"<18",IF(Q17<=24,"18-24",IF(Q17<=34,"25-34",IF(Q17<=44,"35-44",IF(Q17<=54,"45-54",IF(Q17<=64,"55-64","64+"))))))) -> 45-54 | S17: Comercio al por mayor y al por menor; reparación de vehículos de motor y motocicletas | V17: 1 | X17: 1 | Z17: 1 | BR17: =SUM(T17:BQ17) -> 3 | BS17: =IF(T17=1,"Préstamo","Sin préstamo") -> Sin préstamo | BT17: Activo | BU17: Muy pequeño | BV17: Perfil NN | BW17: No | BX17: =IF(T17=1,RANDBETWEEN(0,5000000),"") | BY17: =IF(OR(BX17="",ISBLANK(BX17)),"",IF(BX17>5000000,">5 mil", IF(BX17<=50000,"<=50k", IF(AND(BX17>50000,BX17<=100000),"50k-100k", IF(AND(BX17>100000,BX17<=250000),"100k-250k", IF(AND(BX17>250000,BX17<=750000),"250k-750k", IF(AND(BX17>750000,BX17<=5000000),"750k-5 mil","Desconocido"))))))) | BZ17: =RANDBETWEEN(0,2000000) -> 1052055 | CB17: =BZ17+CA17 -> 1052055 | CE17: =IF(T17=1,RANDBETWEEN(1,10),"") | CF17: =IF(OR(BX17="", ISBLANK(BX17)), "", BX17/CE17) | CG17: =IF(OR(ISBLANK(BX17), BX17=""), "", IF(OR(ISBLANK(CB17), CB17=0), "no deposits", BX17/CB17)) | CH17: =IF(CG17="","",IF(ISERROR(CG17),"no deposits",IF(CG17<100%,"1x",IF(CG17<500%,"1-5x",IF(CG17<1000%,"5-10x",IF(CG17<2000%,"10-20x",IF(CG17<5000%,"20-50x",IF(CG17<10000%,"50-100x",IF(CG17<50000%,"100-500x",">500x"))))))))) | CI17: n/a
A18: 11125 | B18: Región 4 | C18: 0 | D18: Si | E18: Si | F18: 0.15 | G18: =IF(OR(C18>=51%, AND(C18>=20%, D18="Si", E18="No"), AND(C18>=20%, D18="Si", E18="Si", F18>=30%)), "Si", "No") -> No | H18: n/a | I18: <=2 mil EUR | J18: 43101 | K18: =IF(J18=0,"",ROUNDDOWN(((TODAY()-J18)/365),0)) -> 8 | L18: =IF(ISBLANK(J18),"",IF(DATEDIF(J18,TODAY(),"Y")<1,"<12 meses", IF(DATEDIF(J18,TODAY(),"Y")<3,"1-3 años",IF(DATEDIF(J18,TODAY(),"Y")<5,"3-5 años",IF(DATEDIF(J18,TODAY(),"Y")<10,"5-10 años",IF(DATEDIF(J18,TODAY(),"Y")<20,"10-20 años",">20 años")))))) -> 5-10 años | M18: 43101 | N18: =IF(M18=0,"",ROUNDDOWN(((TODAY()-M18)/365),0)) -> 8 | O18: =IF(ISBLANK(M18),"",IF(DATEDIF(M18,TODAY(),"Y")<1,"<12 12 meses", IF(DATEDIF(M18,TODAY(),"Y")<3,"1-3 años",IF(DATEDIF(M18,TODAY(),"Y")<5,"3-5 años",IF(DATEDIF(M18,TODAY(),"Y")<10,"5-10 años",IF(DATEDIF(M18,TODAY(),"Y")<20,"10-20 años",">20 años")))))) -> 5-10 años | P18: 25569 | Q18: =ROUNDDOWN(((TODAY()-P18)/365),0) -> 56 | R18: =IF(Q18="","",IF(Q18<18,"<18",IF(Q18<=24,"18-24",IF(Q18<=34,"25-34",IF(Q18<=44,"35-44",IF(Q18<=54,"45-54",IF(Q18<=64,"55-64","64+"))))))) -> 55-64 | S18: Comercio al por mayor y al por menor; reparación de vehículos de motor y motocicletas | U18: 1 | W18: 1 | Y18: 1 | BR18: =SUM(T18:BQ18) -> 3 | BS18: =IF(T18=1,"Préstamo","Sin préstamo") -> Sin préstamo | BT18: Activo | BU18: Muy pequeño | BV18: Unidad muy pequeña | BW18: No | BX18: =IF(T18=1,RANDBETWEEN(0,5000000),"") | BY18: =IF(OR(BX18="",ISBLANK(BX18)),"",IF(BX18>5000000,">5 mil", IF(BX18<=50000,"<=50k", IF(AND(BX18>50000,BX18<=100000),"50k-100k", IF(AND(BX18>100000,BX18<=250000),"100k-250k", IF(AND(BX18>250000,BX18<=750000),"250k-750k", IF(AND(BX18>750000,BX18<=5000000),"750k-5 mil","Desconocido"))))))) | BZ18: =RANDBETWEEN(0,2000000) -> 382787 | CB18: =BZ18+CA18 -> 382787 | CE18: =IF(T18=1,RANDBETWEEN(1,10),"") | CF18: =IF(OR(BX18="", ISBLANK(BX18)), "", BX18/CE18) | CG18: =IF(OR(ISBLANK(BX18), BX18=""), "", IF(OR(ISBLANK(CB18), CB18=0), "no deposits", BX18/CB18)) | CH18: =IF(CG18="","",IF(ISERROR(CG18),"no deposits",IF(CG18<100%,"1x",IF(CG18<500%,"1-5x",IF(CG18<1000%,"5-10x",IF(CG18<2000%,"10-20x",IF(CG18<5000%,"20-50x",IF(CG18<10000%,"50-100x",IF(CG18<50000%,"100-500x",">500x"))))))))) | CI18: n/a
A19: 11126 | B19: Región 1 | C19: 0.4 | D19: No | E19: Si | F19: 0.5 | G19: =IF(OR(C19>=51%, AND(C19>=20%, D19="Si", E19="No"), AND(C19>=20%, D19="Si", E19="Si", F19>=30%)), "Si", "No") -> No | H19: n/a | I19: <=500k EUR | J19: 42916 | K19: =IF(J19=0,"",ROUNDDOWN(((TODAY()-J19)/365),0)) -> 9 | L19: =IF(ISBLANK(J19),"",IF(DATEDIF(J19,TODAY(),"Y")<1,"<12 meses", IF(DATEDIF(J19,TODAY(),"Y")<3,"1-3 años",IF(DATEDIF(J19,TODAY(),"Y")<5,"3-5 años",IF(DATEDIF(J19,TODAY(),"Y")<10,"5-10 años",IF(DATEDIF(J19,TODAY(),"Y")<20,"10-20 años",">20 años")))))) -> 5-10 años | M19: 42916 | N19: =IF(M19=0,"",ROUNDDOWN(((TODAY()-M19)/365),0)) -> 9 | O19: =IF(ISBLANK(M19),"",IF(DATEDIF(M19,TODAY(),"Y")<1,"<12 12 meses", IF(DATEDIF(M19,TODAY(),"Y")<3,"1-3 años",IF(DATEDIF(M19,TODAY(),"Y")<5,"3-5 años",IF(DATEDIF(M19,TODAY(),"Y")<10,"5-10 años",IF(DATEDIF(M19,TODAY(),"Y")<20,"10-20 años",">20 años")))))) -> 5-10 años | P19: 23743 | Q19: =ROUNDDOWN(((TODAY()-P19)/365),0) -> 61 | R19: =IF(Q19="","",IF(Q19<18,"<18",IF(Q19<=24,"18-24",IF(Q19<=34,"25-34",IF(Q19<=44,"35-44",IF(Q19<=54,"45-54",IF(Q19<=64,"55-64","64+"))))))) -> 55-64 | S19: Actividades de alojamiento y restauración | V19: 1 | X19: 1 | Z19: 1 | BR19: =SUM(T19:BQ19) -> 3 | BS19: =IF(T19=1,"Préstamo","Sin préstamo") -> Sin préstamo | BT19: Activo | BU19: Muy pequeño | BV19: Unidad muy pequeña | BW19: No | BX19: =IF(T19=1,RANDBETWEEN(0,5000000),"") | BY19: =IF(OR(BX19="",ISBLANK(BX19)),"",IF(BX19>5000000,">5 mil", IF(BX19<=50000,"<=50k", IF(AND(BX19>50000,BX19<=100000),"50k-100k", IF(AND(BX19>100000,BX19<=250000),"100k-250k", IF(AND(BX19>250000,BX19<=750000),"250k-750k", IF(AND(BX19>750000,BX19<=5000000),"750k-5 mil","Desconocido"))))))) | BZ19: =RANDBETWEEN(0,2000000) -> 1364254 | CB19: =BZ19+CA19 -> 1364254 | CE19: =IF(T19=1,RANDBETWEEN(1,10),"") | CF19: =IF(OR(BX19="", ISBLANK(BX19)), "", BX19/CE19) | CG19: =IF(OR(ISBLANK(BX19), BX19=""), "", IF(OR(ISBLANK(CB19), CB19=0), "no deposits", BX19/CB19)) | CH19: =IF(CG19="","",IF(ISERROR(CG19),"no deposits",IF(CG19<100%,"1x",IF(CG19<500%,"1-5x",IF(CG19<1000%,"5-10x",IF(CG19<2000%,"10-20x",IF(CG19<5000%,"20-50x",IF(CG19<10000%,"50-100x",IF(CG19<50000%,"100-500x",">500x"))))))))) | CI19: n/a
A20: 11127 | B20: Región 1 | C20: 0.15 | D20: Si | E20: No | G20: =IF(OR(C20>=51%, AND(C20>=20%, D20="Si", E20="No"), AND(C20>=20%, D20="Si", E20="Si", F20>=30%)), "Si", "No") -> No | H20: n/a | I20: <=500k EUR | J20: 42736 | K20: =IF(J20=0,"",ROUNDDOWN(((TODAY()-J20)/365),0)) -> 9 | L20: =IF(ISBLANK(J20),"",IF(DATEDIF(J20,TODAY(),"Y")<1,"<12 meses", IF(DATEDIF(J20,TODAY(),"Y")<3,"1-3 años",IF(DATEDIF(J20,TODAY(),"Y")<5,"3-5 años",IF(DATEDIF(J20,TODAY(),"Y")<10,"5-10 años",IF(DATEDIF(J20,TODAY(),"Y")<20,"10-20 años",">20 años")))))) -> 5-10 años | M20: 42736 | N20: =IF(M20=0,"",ROUNDDOWN(((TODAY()-M20)/365),0)) -> 9 | O20: =IF(ISBLANK(M20),"",IF(DATEDIF(M20,TODAY(),"Y")<1,"<12 12 meses", IF(DATEDIF(M20,TODAY(),"Y")<3,"1-3 años",IF(DATEDIF(M20,TODAY(),"Y")<5,"3-5 años",IF(DATEDIF(M20,TODAY(),"Y")<10,"5-10 años",IF(DATEDIF(M20,TODAY(),"Y")<20,"10-20 años",">20 años")))))) -> 5-10 años | P20: 36526 | Q20: =ROUNDDOWN(((TODAY()-P20)/365),0) -> 26 | R20: =IF(Q20="","",IF(Q20<18,"<18",IF(Q20<=24,"18-24",IF(Q20<=34,"25-34",IF(Q20<=44,"35-44",IF(Q20<=54,"45-54",IF(Q20<=64,"55-64","64+"))))))) -> 25-34 | S20: Actividades sanitarias y de asistencia social | U20: 1 | V20: 1 | W20: 1 | X20: 1 | Y20: 1 | Z20: 1 | BR20: =SUM(T20:BQ20) -> 6 | BS20: =IF(T20=1,"Préstamo","Sin préstamo") -> Sin préstamo | BT20: Activo | BU20: Muy pequeño | BV20: Unidad muy pequeña | BW20: No | BX20: =IF(T20=1,RANDBETWEEN(0,5000000),"") | BY20: =IF(OR(BX20="",ISBLANK(BX20)),"",IF(BX20>5000000,">5 mil", IF(BX20<=50000,"<=50k", IF(AND(BX20>50000,BX20<=100000),"50k-100k", IF(AND(BX20>100000,BX20<=250000),"100k-250k", IF(AND(BX20>250000,BX20<=750000),"250k-750k", IF(AND(BX20>750000,BX20<=5000000),"750k-5 mil","Desconocido"))))))) | BZ20: =RANDBETWEEN(0,2000000) -> 1157711 | CB20: =BZ20+CA20 -> 1157711 | CE20: =IF(T20=1,RANDBETWEEN(1,10),"") | CF20: =IF(OR(BX20="", ISBLANK(BX20)), "", BX20/CE20) | CG20: =IF(OR(ISBLANK(BX20), BX20=""), "", IF(OR(ISBLANK(CB20), CB20=0), "no deposits", BX20/CB20)) | CH20: =IF(CG20="","",IF(ISERROR(CG20),"no deposits",IF(CG20<100%,"1x",IF(CG20<500%,"1-5x",IF(CG20<1000%,"5-10x",IF(CG20<2000%,"10-20x",IF(CG20<5000%,"20-50x",IF(CG20<10000%,"50-100x",IF(CG20<50000%,"100-500x",">500x"))))))))) | CI20: n/a
A21: 11128 | B21: Región 8 | C21: 0.2 | D21: No | E21: No | G21: =IF(OR(C21>=51%, AND(C21>=20%, D21="Si", E21="No"), AND(C21>=20%, D21="Si", E21="Si", F21>=30%)), "Si", "No") -> No | H21: <= 10 | I21: <=2 mil EUR | J21: 42551 | K21: =IF(J21=0,"",ROUNDDOWN(((TODAY()-J21)/365),0)) -> 10 | L21: =IF(ISBLANK(J21),"",IF(DATEDIF(J21,TODAY(),"Y")<1,"<12 meses", IF(DATEDIF(J21,TODAY(),"Y")<3,"1-3 años",IF(DATEDIF(J21,TODAY(),"Y")<5,"3-5 años",IF(DATEDIF(J21,TODAY(),"Y")<10,"5-10 años",IF(DATEDIF(J21,TODAY(),"Y")<20,"10-20 años",">20 años")))))) -> 10-20 años | M21: 42551 | N21: =IF(M21=0,"",ROUNDDOWN(((TODAY()-M21)/365),0)) -> 10 | O21: =IF(ISBLANK(M21),"",IF(DATEDIF(M21,TODAY(),"Y")<1,"<12 12 meses", IF(DATEDIF(M21,TODAY(),"Y")<3,"1-3 años",IF(DATEDIF(M21,TODAY(),"Y")<5,"3-5 años",IF(DATEDIF(M21,TODAY(),"Y")<10,"5-10 años",IF(DATEDIF(M21,TODAY(),"Y")<20,"10-20 años",">20 años")))))) -> 10-20 años | P21: 34700 | Q21: =ROUNDDOWN(((TODAY()-P21)/365),0) -> 31 | R21: =IF(Q21="","",IF(Q21<18,"<18",IF(Q21<=24,"18-24",IF(Q21<=34,"25-34",IF(Q21<=44,"35-44",IF(Q21<=54,"45-54",IF(Q21<=64,"55-64","64+"))))))) -> 25-34 | S21: Construcción | T21: 1 | V21: 1 | X21: 1 | Z21: 1 | BR21: =SUM(T21:BQ21) -> 4 | BS21: =IF(T21=1,"Préstamo","Sin préstamo") -> Préstamo | BT21: Activo | BU21: Mediano | BV21: Asesor de clientes empresariales | BW21: No | BX21: =IF(T21=1,RANDBETWEEN(0,5000000),"") -> 388128 | BY21: =IF(OR(BX21="",ISBLANK(BX21)),"",IF(BX21>5000000,">5 mil", IF(BX21<=50000,"<=50k", IF(AND(BX21>50000,BX21<=100000),"50k-100k", IF(AND(BX21>100000,BX21<=250000),"100k-250k", IF(AND(BX21>250000,BX21<=750000),"250k-750k", IF(AND(BX21>750000,BX21<=5000000),"750k-5 mil","Desconocido"))))))) -> 250k-750k | BZ21: =RANDBETWEEN(0,2000000) -> 70985 | CB21: =BZ21+CA21 -> 70985 | CC21: Préstamo de inversión | CD21: Hipoteca | CE21: =IF(T21=1,RANDBETWEEN(1,10),"") -> 4 | CF21: =IF(OR(BX21="", ISBLANK(BX21)), "", BX21/CE21) -> 97032 | CG21: =IF(OR(ISBLANK(BX21), BX21=""), "", IF(OR(ISBLANK(CB21), CB21=0), "no deposits", BX21/CB21)) -> 5.4677467 | CH21: =IF(CG21="","",IF(ISERROR(CG21),"no deposits",IF(CG21<100%,"1x",IF(CG21<500%,"1-5x",IF(CG21<1000%,"5-10x",IF(CG21<2000%,"10-20x",IF(CG21<5000%,"20-50x",IF(CG21<10000%,"50-100x",IF(CG21<50000%,"100-500x",">500x"))))))))) -> 5-10x | CI21: Amaestrado
A22: 11129 | B22: Región 1 | C22: 0.3 | D22: Si | E22: Si | F22: 0.15 | G22: =IF(OR(C22>=51%, AND(C22>=20%, D22="Si", E22="No"), AND(C22>=20%, D22="Si", E22="Si", F22>=30%)), "Si", "No") -> No | H22: n/a | I22: <=500k EUR | J22: 42370 | K22: =IF(J22=0,"",ROUNDDOWN(((TODAY()-J22)/365),0)) -> 10 | L22: =IF(ISBLANK(J22),"",IF(DATEDIF(J22,TODAY(),"Y")<1,"<12 meses", IF(DATEDIF(J22,TODAY(),"Y")<3,"1-3 años",IF(DATEDIF(J22,TODAY(),"Y")<5,"3-5 años",IF(DATEDIF(J22,TODAY(),"Y")<10,"5-10 años",IF(DATEDIF(J22,TODAY(),"Y")<20,"10-20 años",">20 años")))))) -> 10-20 años | M22: 42370 | N22: =IF(M22=0,"",ROUNDDOWN(((TODAY()-M22)/365),0)) -> 10 | O22: =IF(ISBLANK(M22),"",IF(DATEDIF(M22,TODAY(),"Y")<1,"<12 12 meses", IF(DATEDIF(M22,TODAY(),"Y")<3,"1-3 años",IF(DATEDIF(M22,TODAY(),"Y")<5,"3-5 años",IF(DATEDIF(M22,TODAY(),"Y")<10,"5-10 años",IF(DATEDIF(M22,TODAY(),"Y")<20,"10-20 años",">20 años")))))) -> 10-20 años | P22: 32874 | Q22: =ROUNDDOWN(((TODAY()-P22)/365),0) -> 36 | R22: =IF(Q22="","",IF(Q22<18,"<18",IF(Q22<=24,"18-24",IF(Q22<=34,"25-34",IF(Q22<=44,"35-44",IF(Q22<=54,"45-54",IF(Q22<=64,"55-64","64+"))))))) -> 35-44 | S22: Actividades profesionales, científicas y técnicas | U22: 1 | V22: 1 | W22: 1 | X22: 1 | BR22: =SUM(T22:BQ22) -> 4 | BS22: =IF(T22=1,"Préstamo","Sin préstamo") -> Sin préstamo | BT22: Activo | BU22: Muy pequeño | BV22: Unidad muy pequeña | BW22: No | BX22: =IF(T22=1,RANDBETWEEN(0,5000000),"") | BY22: =IF(OR(BX22="",ISBLANK(BX22)),"",IF(BX22>5000000,">5 mil", IF(BX22<=50000,"<=50k", IF(AND(BX22>50000,BX22<=100000),"50k-100k", IF(AND(BX22>100000,BX22<=250000),"100k-250k", IF(AND(BX22>250000,BX22<=750000),"250k-750k", IF(AND(BX22>750000,BX22<=5000000),"750k-5 mil","Desconocido"))))))) | BZ22: =RANDBETWEEN(0,2000000) -> 443812 | CB22: =BZ22+CA22 -> 443812 | CE22: =IF(T22=1,RANDBETWEEN(1,10),"") | CF22: =IF(OR(BX22="", ISBLANK(BX22)), "", BX22/CE22) | CG22: =IF(OR(ISBLANK(BX22), BX22=""), "", IF(OR(ISBLANK(CB22), CB22=0), "no deposits", BX22/CB22)) | CH22: =IF(CG22="","",IF(ISERROR(CG22),"no deposits",IF(CG22<100%,"1x",IF(CG22<500%,"1-5x",IF(CG22<1000%,"5-10x",IF(CG22<2000%,"10-20x",IF(CG22<5000%,"20-50x",IF(CG22<10000%,"50-100x",IF(CG22<50000%,"100-500x",">500x"))))))))) | CI22: n/a
A23: 11130 | B23: Región 1 | C23: 0.4 | D23: No | E23: Si | F23: 0.3 | G23: =IF(OR(C23>=51%, AND(C23>=20%, D23="Si", E23="No"), AND(C23>=20%, D23="Si", E23="Si", F23>=30%)), "Si", "No") -> No | H23: n/a | I23: n/a | J23: 42185 | K23: =IF(J23=0,"",ROUNDDOWN(((TODAY()-J23)/365),0)) -> 11 | L23: =IF(ISBLANK(J23),"",IF(DATEDIF(J23,TODAY(),"Y")<1,"<12 meses", IF(DATEDIF(J23,TODAY(),"Y")<3,"1-3 años",IF(DATEDIF(J23,TODAY(),"Y")<5,"3-5 años",IF(DATEDIF(J23,TODAY(),"Y")<10,"5-10 años",IF(DATEDIF(J23,TODAY(),"Y")<20,"10-20 años",">20 años")))))) -> 10-20 años | M23: 42185 | N23: =IF(M23=0,"",ROUNDDOWN(((TODAY()-M23)/365),0)) -> 11 | O23: =IF(ISBLANK(M23),"",IF(DATEDIF(M23,TODAY(),"Y")<1,"<12 12 meses", IF(DATEDIF(M23,TODAY(),"Y")<3,"1-3 años",IF(DATEDIF(M23,TODAY(),"Y")<5,"3-5 años",IF(DATEDIF(M23,TODAY(),"Y")<10,"5-10 años",IF(DATEDIF(M23,TODAY(),"Y")<20,"10-20 años",">20 años")))))) -> 10-20 años | P23: 31048 | Q23: =ROUNDDOWN(((TODAY()-P23)/365),0) -> 41 | R23: =IF(Q23="","",IF(Q23<18,"<18",IF(Q23<=24,"18-24",IF(Q23<=34,"25-34",IF(Q23<=44,"35-44",IF(Q23<=54,"45-54",IF(Q23<=64,"55-64","64+"))))))) -> 35-44 | S23: Construcción | V23: 1 | X23: 1 | Z23: 1 | BR23: =SUM(T23:BQ23) -> 3 | BS23: =IF(T23=1,"Préstamo","Sin préstamo") -> Sin préstamo | BT23: Activo | BU23: Mediano | BV23: Asesor de clientes empresariales | BW23: No | BX23: =IF(T23=1,RANDBETWEEN(0,5000000),"") | BY23: =IF(OR(BX23="",ISBLANK(BX23)),"",IF(BX23>5000000,">5 mil", IF(BX23<=50000,"<=50k", IF(AND(BX23>50000,BX23<=100000),"50k-100k", IF(AND(BX23>100000,BX23<=250000),"100k-250k", IF(AND(BX23>250000,BX23<=750000),"250k-750k", IF(AND(BX23>750000,BX23<=5000000),"750k-5 mil","Desconocido"))))))) | BZ23: =RANDBETWEEN(0,2000000) -> 398958 | CB23: =BZ23+CA23 -> 398958 | CE23: =IF(T23=1,RANDBETWEEN(1,10),"") | CF23: =IF(OR(BX23="", ISBLANK(BX23)), "", BX23/CE23) | CG23: =IF(OR(ISBLANK(BX23), BX23=""), "", IF(OR(ISBLANK(CB23), CB23=0), "no deposits", BX23/CB23)) | CH23: =IF(CG23="","",IF(ISERROR(CG23),"no deposits",IF(CG23<100%,"1x",IF(CG23<500%,"1-5x",IF(CG23<1000%,"5-10x",IF(CG23<2000%,"10-20x",IF(CG23<5000%,"20-50x",IF(CG23<10000%,"50-100x",IF(CG23<50000%,"100-500x",">500x"))))))))) | CI23: n/a
A24: 11131 | B24: Región 1 | C24: 0.5 | D24: Si | E24: No | G24: =IF(OR(C24>=51%, AND(C24>=20%, D24="Si", E24="No"), AND(C24>=20%, D24="Si", E24="Si", F24>=30%)), "Si", "No") -> Si | H24: n/a | I24: n/a | J24: 42005 | K24: =IF(J24=0,"",ROUNDDOWN(((TODAY()-J24)/365),0)) -> 11 | L24: =IF(ISBLANK(J24),"",IF(DATEDIF(J24,TODAY(),"Y")<1,"<12 meses", IF(DATEDIF(J24,TODAY(),"Y")<3,"1-3 años",IF(DATEDIF(J24,TODAY(),"Y")<5,"3-5 años",IF(DATEDIF(J24,TODAY(),"Y")<10,"5-10 años",IF(DATEDIF(J24,TODAY(),"Y")<20,"10-20 años",">20 años")))))) -> 10-20 años | M24: 42005 | N24: =IF(M24=0,"",ROUNDDOWN(((TODAY()-M24)/365),0)) -> 11 | O24: =IF(ISBLANK(M24),"",IF(DATEDIF(M24,TODAY(),"Y")<1,"<12 12 meses", IF(DATEDIF(M24,TODAY(),"Y")<3,"1-3 años",IF(DATEDIF(M24,TODAY(),"Y")<5,"3-5 años",IF(DATEDIF(M24,TODAY(),"Y")<10,"5-10 años",IF(DATEDIF(M24,TODAY(),"Y")<20,"10-20 años",">20 años")))))) -> 10-20 años | P24: 29221 | Q24: =ROUNDDOWN(((TODAY()-P24)/365),0) -> 46 | R24: =IF(Q24="","",IF(Q24<18,"<18",IF(Q24<=24,"18-24",IF(Q24<=34,"25-34",IF(Q24<=44,"35-44",IF(Q24<=54,"45-54",IF(Q24<=64,"55-64","64+"))))))) -> 45-54 | S24: Comercio al por mayor y al por menor; reparación de vehículos de motor y motocicletas | U24: 1 | W24: 1 | Y24: 1 | BR24: =SUM(T24:BQ24) -> 3 | BS24: =IF(T24=1,"Préstamo","Sin préstamo") -> Sin préstamo | BT24: Activo | BU24: Pequeño | BV24: Asesor de clientes empresariales | BW24: No | BX24: =IF(T24=1,RANDBETWEEN(0,5000000),"") | BY24: =IF(OR(BX24="",ISBLANK(BX24)),"",IF(BX24>5000000,">5 mil", IF(BX24<=50000,"<=50k", IF(AND(BX24>50000,BX24<=100000),"50k-100k", IF(AND(BX24>100000,BX24<=250000),"100k-250k", IF(AND(BX24>250000,BX24<=750000),"250k-750k", IF(AND(BX24>750000,BX24<=5000000),"750k-5 mil","Desconocido"))))))) | BZ24: =RANDBETWEEN(0,2000000) -> 1419159 | CB24: =BZ24+CA24 -> 1419159 | CE24: =IF(T24=1,RANDBETWEEN(1,10),"") | CF24: =IF(OR(BX24="", ISBLANK(BX24)), "", BX24/CE24) | CG24: =IF(OR(ISBLANK(BX24), BX24=""), "", IF(OR(ISBLANK(CB24), CB24=0), "no deposits", BX24/CB24)) | CH24: =IF(CG24="","",IF(ISERROR(CG24),"no deposits",IF(CG24<100%,"1x",IF(CG24<500%,"1-5x",IF(CG24<1000%,"5-10x",IF(CG24<2000%,"10-20x",IF(CG24<5000%,"20-50x",IF(CG24<10000%,"50-100x",IF(CG24<50000%,"100-500x",">500x"))))))))) | CI24: n/a
